Package: Rbowtie Version: 1.49.0 Command: /home/biocbuild/R/R/bin/R CMD build --keep-empty-dirs --no-resave-data Rbowtie StartedAt: 2025-10-17 03:50:04 -0000 (Fri, 17 Oct 2025) EndedAt: 2025-10-17 03:52:16 -0000 (Fri, 17 Oct 2025) EllapsedTime: 132.1 seconds RetCode: 0 Status: OK PackageFile: Rbowtie_1.49.0.tar.gz PackageFileSize: 968.8 KiB