Package: Rbowtie Version: 1.49.0 Command: /home/biocbuild/bbs-3.22-bioc/R/bin/R CMD INSTALL Rbowtie StartedAt: 2025-10-19 15:06:00 -0400 (Sun, 19 Oct 2025) EndedAt: 2025-10-19 15:07:26 -0400 (Sun, 19 Oct 2025) EllapsedTime: 85.3 seconds RetCode: 0 Status: OK