Package: Rbowtie Version: 1.49.0 Command: /Library/Frameworks/R.framework/Resources/bin/R CMD INSTALL Rbowtie StartedAt: 2025-10-17 15:07:07 -0400 (Fri, 17 Oct 2025) EndedAt: 2025-10-17 15:08:27 -0400 (Fri, 17 Oct 2025) EllapsedTime: 79.7 seconds RetCode: 0 Status: OK