Package: Rbowtie Version: 1.49.0 Command: /Library/Frameworks/R.framework/Resources/bin/R CMD check --install=check:Rbowtie.install-out.txt --library=/Library/Frameworks/R.framework/Resources/library --no-vignettes --timings Rbowtie_1.49.0.tar.gz StartedAt: 2025-10-20 01:00:37 -0400 (Mon, 20 Oct 2025) EndedAt: 2025-10-20 01:01:18 -0400 (Mon, 20 Oct 2025) EllapsedTime: 40.6 seconds RetCode: 0 Status: WARNINGS CheckDir: Rbowtie.Rcheck Warnings: 1