Package: Rbowtie Version: 1.49.0 Command: rm -rf Rbowtie.buildbin-libdir && mkdir Rbowtie.buildbin-libdir && /Users/biocbuild/BBS/utils/build-universal.sh Rbowtie_1.49.0.tar.gz /Library/Frameworks/R.framework/Resources/bin/R Rbowtie.buildbin-libdir StartedAt: 2025-10-18 03:16:07 -0400 (Sat, 18 Oct 2025) EndedAt: 2025-10-18 03:18:08 -0400 (Sat, 18 Oct 2025) EllapsedTime: 120.4 seconds RetCode: 0 Status: OK PackageFile: Rbowtie_1.49.0.tgz PackageFileSize: 1.279 MiB