Package: Rbowtie Version: 1.49.0 Command: /Library/Frameworks/R.framework/Resources/bin/R CMD INSTALL Rbowtie StartedAt: 2025-10-17 15:02:52 -0400 (Fri, 17 Oct 2025) EndedAt: 2025-10-17 15:03:24 -0400 (Fri, 17 Oct 2025) EllapsedTime: 31.2 seconds RetCode: 0 Status: OK