Package: Rbowtie Version: 1.49.0 Command: /Library/Frameworks/R.framework/Resources/bin/R CMD build --keep-empty-dirs --no-resave-data Rbowtie StartedAt: 2025-10-19 17:25:11 -0400 (Sun, 19 Oct 2025) EndedAt: 2025-10-19 17:25:41 -0400 (Sun, 19 Oct 2025) EllapsedTime: 30.3 seconds RetCode: 0 Status: OK PackageFile: Rbowtie_1.49.0.tar.gz PackageFileSize: 4.917 MiB