Package: Rbowtie Version: 1.49.0 Command: rm -rf Rbowtie.buildbin-libdir && mkdir Rbowtie.buildbin-libdir && /Users/biocbuild/BBS/utils/build-universal.sh Rbowtie_1.49.0.tar.gz /Library/Frameworks/R.framework/Resources/bin/R Rbowtie.buildbin-libdir StartedAt: 2025-10-17 23:21:20 -0400 (Fri, 17 Oct 2025) EndedAt: 2025-10-17 23:21:48 -0400 (Fri, 17 Oct 2025) EllapsedTime: 27.7 seconds RetCode: 0 Status: OK PackageFile: Rbowtie_1.49.0.tgz PackageFileSize: 1.184 MiB