Package: Rbec Version: 1.17.0 Command: /Library/Frameworks/R.framework/Resources/bin/R CMD check --install=check:Rbec.install-out.txt --library=/Library/Frameworks/R.framework/Resources/library --no-vignettes --timings Rbec_1.17.0.tar.gz StartedAt: 2025-10-01 23:46:00 -0400 (Wed, 01 Oct 2025) EndedAt: 2025-10-01 23:50:37 -0400 (Wed, 01 Oct 2025) EllapsedTime: 276.9 seconds RetCode: 0 Status: OK CheckDir: Rbec.Rcheck Warnings: 0