Package: Rarr Version: 1.9.17 Command: /Library/Frameworks/R.framework/Resources/bin/R CMD build --keep-empty-dirs --no-resave-data Rarr StartedAt: 2025-10-15 18:56:38 -0400 (Wed, 15 Oct 2025) EndedAt: 2025-10-15 18:58:50 -0400 (Wed, 15 Oct 2025) EllapsedTime: 132.1 seconds RetCode: 0 Status: OK PackageFile: Rarr_1.9.17.tar.gz PackageFileSize: 1.44 MiB