Package: RareVariantVis Version: 2.37.0 Command: /Library/Frameworks/R.framework/Resources/bin/R CMD INSTALL RareVariantVis StartedAt: 2025-10-01 15:49:43 -0400 (Wed, 01 Oct 2025) EndedAt: 2025-10-01 15:50:46 -0400 (Wed, 01 Oct 2025) EllapsedTime: 63.6 seconds RetCode: 0 Status: OK