Package: RareVariantVis Version: 2.37.0 Command: /Library/Frameworks/R.framework/Resources/bin/R CMD check --install=check:RareVariantVis.install-out.txt --library=/Library/Frameworks/R.framework/Resources/library --no-vignettes --timings RareVariantVis_2.37.0.tar.gz StartedAt: 2025-10-01 23:45:28 -0400 (Wed, 01 Oct 2025) EndedAt: 2025-10-01 23:51:36 -0400 (Wed, 01 Oct 2025) EllapsedTime: 368.3 seconds RetCode: 0 Status: OK CheckDir: RareVariantVis.Rcheck Warnings: 0