Package: RaggedExperiment Version: 1.33.7 Command: F:\biocbuild\bbs-3.22-bioc\R\bin\R.exe CMD check --no-multiarch --install=check:RaggedExperiment.install-out.txt --library=F:\biocbuild\bbs-3.22-bioc\R\library --no-vignettes --timings RaggedExperiment_1.33.7.tar.gz StartedAt: 2025-08-15 06:47:45 -0400 (Fri, 15 Aug 2025) EndedAt: 2025-08-15 06:51:05 -0400 (Fri, 15 Aug 2025) EllapsedTime: 199.4 seconds RetCode: 0 Status: OK CheckDir: RaggedExperiment.Rcheck Warnings: 0