Package: RVS Version: 1.31.0 Command: /home/biocbuild/R/R/bin/R CMD INSTALL RVS StartedAt: 2025-10-16 21:23:32 -0000 (Thu, 16 Oct 2025) EndedAt: 2025-10-16 21:23:46 -0000 (Thu, 16 Oct 2025) EllapsedTime: 13.0 seconds RetCode: 0 Status: OK