Package: RVS Version: 1.31.0 Command: /home/biocbuild/R/R/bin/R CMD check --install=check:RVS.install-out.txt --library=/home/biocbuild/R/R/site-library --no-vignettes --timings RVS_1.31.0.tar.gz StartedAt: 2025-10-17 13:06:36 -0000 (Fri, 17 Oct 2025) EndedAt: 2025-10-17 13:11:42 -0000 (Fri, 17 Oct 2025) EllapsedTime: 305.4 seconds RetCode: 0 Status: WARNINGS CheckDir: RVS.Rcheck Warnings: 1