Package: RVS Version: 1.31.0 Command: /home/biocbuild/R/R/bin/R CMD build --keep-empty-dirs --no-resave-data RVS StartedAt: 2025-10-17 04:12:47 -0000 (Fri, 17 Oct 2025) EndedAt: 2025-10-17 04:16:19 -0000 (Fri, 17 Oct 2025) EllapsedTime: 212.1 seconds RetCode: 0 Status: OK PackageFile: RVS_1.31.0.tar.gz PackageFileSize: 456.9 KiB