Package: RVS Version: 1.31.0 Command: rm -rf RVS.buildbin-libdir && mkdir RVS.buildbin-libdir && F:\biocbuild\bbs-3.22-bioc\R\bin\R.exe CMD INSTALL --build --library=RVS.buildbin-libdir RVS_1.31.0.tar.gz StartedAt: 2025-08-15 11:12:35 -0400 (Fri, 15 Aug 2025) EndedAt: 2025-08-15 11:13:08 -0400 (Fri, 15 Aug 2025) EllapsedTime: 32.5 seconds RetCode: 0 Status: OK PackageFile: RVS_1.31.0.zip PackageFileSize: 499.4 KiB