Package: RVS Version: 1.31.0 Command: /Library/Frameworks/R.framework/Resources/bin/R CMD check --install=check:RVS.install-out.txt --library=/Library/Frameworks/R.framework/Resources/library --no-vignettes --timings RVS_1.31.0.tar.gz StartedAt: 2025-10-20 01:21:05 -0400 (Mon, 20 Oct 2025) EndedAt: 2025-10-20 01:25:21 -0400 (Mon, 20 Oct 2025) EllapsedTime: 256.3 seconds RetCode: 0 Status: WARNINGS CheckDir: RVS.Rcheck Warnings: 1