Package: RVS Version: 1.31.0 Command: rm -rf RVS.buildbin-libdir && mkdir RVS.buildbin-libdir && /Users/biocbuild/BBS/utils/build-universal.sh RVS_1.31.0.tar.gz /Library/Frameworks/R.framework/Resources/bin/R RVS.buildbin-libdir StartedAt: 2025-10-20 03:30:44 -0400 (Mon, 20 Oct 2025) EndedAt: 2025-10-20 03:31:04 -0400 (Mon, 20 Oct 2025) EllapsedTime: 19.7 seconds RetCode: 0 Status: OK PackageFile: RVS_1.31.0.tgz PackageFileSize: 692.4 KiB