Package: RUVSeq Version: 1.43.0 Command: chmod a+r RUVSeq -R && F:\biocbuild\bbs-3.22-bioc\R\bin\R.exe CMD build --keep-empty-dirs --no-resave-data RUVSeq StartedAt: 2025-08-14 22:56:53 -0400 (Thu, 14 Aug 2025) EndedAt: 2025-08-14 22:59:02 -0400 (Thu, 14 Aug 2025) EllapsedTime: 129.9 seconds RetCode: 0 Status: OK PackageFile: RUVSeq_1.43.0.tar.gz PackageFileSize: 311.5 KiB