Package: RUVSeq Version: 1.43.0 Command: rm -rf RUVSeq.buildbin-libdir && mkdir RUVSeq.buildbin-libdir && F:\biocbuild\bbs-3.22-bioc\R\bin\R.exe CMD INSTALL --build --library=RUVSeq.buildbin-libdir RUVSeq_1.43.0.tar.gz StartedAt: 2025-08-15 11:12:28 -0400 (Fri, 15 Aug 2025) EndedAt: 2025-08-15 11:13:15 -0400 (Fri, 15 Aug 2025) EllapsedTime: 47.5 seconds RetCode: 0 Status: OK PackageFile: RUVSeq_1.43.0.zip PackageFileSize: 356.1 KiB