Package: RUVSeq Version: 1.43.0 Command: /home/biocbuild/bbs-3.22-bioc/R/bin/R CMD check --install=check:RUVSeq.install-out.txt --library=/home/biocbuild/bbs-3.22-bioc/R/site-library --timings RUVSeq_1.43.0.tar.gz StartedAt: 2025-10-20 04:15:08 -0400 (Mon, 20 Oct 2025) EndedAt: 2025-10-20 04:21:03 -0400 (Mon, 20 Oct 2025) EllapsedTime: 355.4 seconds RetCode: 0 Status: OK CheckDir: RUVSeq.Rcheck Warnings: 0