Package: RUVSeq Version: 1.43.0 Command: /home/biocbuild/bbs-3.22-bioc/R/bin/R CMD build --keep-empty-dirs --no-resave-data --md5 RUVSeq StartedAt: 2025-10-19 19:46:10 -0400 (Sun, 19 Oct 2025) EndedAt: 2025-10-19 19:47:49 -0400 (Sun, 19 Oct 2025) EllapsedTime: 99.1 seconds RetCode: 0 Status: OK PackageFile: RUVSeq_1.43.0.tar.gz PackageFileSize: 501.2 KiB