Package: RUVSeq Version: 1.43.0 Command: rm -rf RUVSeq.buildbin-libdir && mkdir RUVSeq.buildbin-libdir && /Users/biocbuild/BBS/utils/build-universal.sh RUVSeq_1.43.0.tar.gz /Library/Frameworks/R.framework/Resources/bin/R RUVSeq.buildbin-libdir StartedAt: 2025-10-21 03:33:23 -0400 (Tue, 21 Oct 2025) EndedAt: 2025-10-21 03:34:21 -0400 (Tue, 21 Oct 2025) EllapsedTime: 57.8 seconds RetCode: 0 Status: OK PackageFile: RUVSeq_1.43.0.tgz PackageFileSize: 536.5 KiB