Package: RUVSeq Version: 1.43.0 Command: /Library/Frameworks/R.framework/Resources/bin/R CMD INSTALL RUVSeq StartedAt: 2025-10-19 15:27:37 -0400 (Sun, 19 Oct 2025) EndedAt: 2025-10-19 15:27:54 -0400 (Sun, 19 Oct 2025) EllapsedTime: 17.1 seconds RetCode: 0 Status: OK