Package: RUVSeq Version: 1.43.0 Command: /Library/Frameworks/R.framework/Resources/bin/R CMD check --install=check:RUVSeq.install-out.txt --library=/Library/Frameworks/R.framework/Resources/library --no-vignettes --timings RUVSeq_1.43.0.tar.gz StartedAt: 2025-10-19 21:45:25 -0400 (Sun, 19 Oct 2025) EndedAt: 2025-10-19 21:47:24 -0400 (Sun, 19 Oct 2025) EllapsedTime: 119.4 seconds RetCode: 0 Status: OK CheckDir: RUVSeq.Rcheck Warnings: 0