Package: RUVSeq Version: 1.43.0 Command: /Library/Frameworks/R.framework/Resources/bin/R CMD build --keep-empty-dirs --no-resave-data RUVSeq StartedAt: 2025-10-20 17:33:25 -0400 (Mon, 20 Oct 2025) EndedAt: 2025-10-20 17:34:05 -0400 (Mon, 20 Oct 2025) EllapsedTime: 39.5 seconds RetCode: 0 Status: OK PackageFile: RUVSeq_1.43.0.tar.gz PackageFileSize: 496 KiB