Package: RUCova Version: 1.1.0 Command: /home/biocbuild/R/R/bin/R CMD INSTALL RUCova StartedAt: 2025-10-16 21:35:25 -0000 (Thu, 16 Oct 2025) EndedAt: 2025-10-16 21:35:59 -0000 (Thu, 16 Oct 2025) EllapsedTime: 33.8 seconds RetCode: 0 Status: OK