Package: RUCova Version: 1.1.0 Command: /home/biocbuild/R/R/bin/R CMD build --keep-empty-dirs --no-resave-data RUCova StartedAt: 2025-10-17 04:11:49 -0000 (Fri, 17 Oct 2025) EndedAt: 2025-10-17 04:13:26 -0000 (Fri, 17 Oct 2025) EllapsedTime: 97.1 seconds RetCode: 0 Status: OK PackageFile: RUCova_1.1.0.tar.gz PackageFileSize: 4.331 MiB