Package: RUCova Version: 1.1.0 Command: /Library/Frameworks/R.framework/Resources/bin/R CMD INSTALL RUCova StartedAt: 2025-10-19 15:24:46 -0400 (Sun, 19 Oct 2025) EndedAt: 2025-10-19 15:25:21 -0400 (Sun, 19 Oct 2025) EllapsedTime: 35.5 seconds RetCode: 0 Status: OK