Package: RUCova Version: 1.1.0 Command: /Library/Frameworks/R.framework/Resources/bin/R CMD build --keep-empty-dirs --no-resave-data RUCova StartedAt: 2025-10-19 19:10:39 -0400 (Sun, 19 Oct 2025) EndedAt: 2025-10-19 19:12:16 -0400 (Sun, 19 Oct 2025) EllapsedTime: 97.4 seconds RetCode: 0 Status: OK PackageFile: RUCova_1.1.0.tar.gz PackageFileSize: 5.391 MiB