Package: RUCova Version: 1.1.0 Command: rm -rf RUCova.buildbin-libdir && mkdir RUCova.buildbin-libdir && /Users/biocbuild/BBS/utils/build-universal.sh RUCova_1.1.0.tar.gz /Library/Frameworks/R.framework/Resources/bin/R RUCova.buildbin-libdir StartedAt: 2025-10-20 03:30:36 -0400 (Mon, 20 Oct 2025) EndedAt: 2025-10-20 03:31:18 -0400 (Mon, 20 Oct 2025) EllapsedTime: 41.6 seconds RetCode: 0 Status: OK PackageFile: RUCova_1.1.0.tgz PackageFileSize: 5.401 MiB