Package: RUCova Version: 1.1.0 Command: rm -rf RUCova.buildbin-libdir && mkdir RUCova.buildbin-libdir && /Users/biocbuild/BBS/utils/build-universal.sh RUCova_1.1.0.tar.gz /Library/Frameworks/R.framework/Resources/bin/R RUCova.buildbin-libdir StartedAt: 2025-10-19 23:14:18 -0400 (Sun, 19 Oct 2025) EndedAt: 2025-10-19 23:14:30 -0400 (Sun, 19 Oct 2025) EllapsedTime: 12.3 seconds RetCode: 0 Status: OK PackageFile: RUCova_1.1.0.tgz PackageFileSize: 5.402 MiB