Package: RUCova Version: 1.1.0 Maintainer: Rosario Astaburuaga-GarcĂ­a MaintainerEmail: rosario.astaburuaga at charite.de git_url: https://git.bioconductor.org/packages/RUCova git_branch: devel git_last_commit: c8bb9a5 git_last_commit_date: 2025-04-15 13:51:07 -0400 (Tue, 15 Apr 2025)