Package: RTopper Version: 1.56.0 Command: /Library/Frameworks/R.framework/Resources/bin/R CMD check --install=check:RTopper.install-out.txt --library=/Library/Frameworks/R.framework/Resources/library --no-vignettes --timings RTopper_1.56.0.tar.gz StartedAt: 2025-11-03 23:55:39 -0500 (Mon, 03 Nov 2025) EndedAt: 2025-11-03 23:57:00 -0500 (Mon, 03 Nov 2025) EllapsedTime: 81.1 seconds RetCode: 0 Status: OK CheckDir: RTopper.Rcheck Warnings: 0