Package: RTNsurvival Version: 1.34.0 Command: /Library/Frameworks/R.framework/Resources/bin/R CMD INSTALL RTNsurvival StartedAt: 2025-11-02 15:32:37 -0500 (Sun, 02 Nov 2025) EndedAt: 2025-11-02 15:33:22 -0500 (Sun, 02 Nov 2025) EllapsedTime: 44.7 seconds RetCode: 0 Status: OK