Package: RTNsurvival Version: 1.34.0 Command: rm -rf RTNsurvival.buildbin-libdir && mkdir RTNsurvival.buildbin-libdir && /Users/biocbuild/BBS/utils/build-universal.sh RTNsurvival_1.34.0.tar.gz /Library/Frameworks/R.framework/Resources/bin/R RTNsurvival.buildbin-libdir StartedAt: 2025-11-01 01:54:43 -0400 (Sat, 01 Nov 2025) EndedAt: 2025-11-01 01:55:30 -0400 (Sat, 01 Nov 2025) EllapsedTime: 47.2 seconds RetCode: 0 Status: OK PackageFile: RTNsurvival_1.34.0.tgz PackageFileSize: 965.7 KiB