Package: RTNduals Version: 1.33.0 Command: F:\biocbuild\bbs-3.22-bioc\R\bin\R.exe CMD INSTALL RTNduals StartedAt: 2025-08-14 16:02:52 -0400 (Thu, 14 Aug 2025) EndedAt: 2025-08-14 16:03:32 -0400 (Thu, 14 Aug 2025) EllapsedTime: 39.7 seconds RetCode: 0 Status: OK