Package: RTNduals Version: 1.33.0 Command: chmod a+r RTNduals -R && F:\biocbuild\bbs-3.22-bioc\R\bin\R.exe CMD build --keep-empty-dirs --no-resave-data RTNduals StartedAt: 2025-08-14 22:54:58 -0400 (Thu, 14 Aug 2025) EndedAt: 2025-08-14 22:56:47 -0400 (Thu, 14 Aug 2025) EllapsedTime: 109.3 seconds RetCode: 0 Status: OK PackageFile: RTNduals_1.33.0.tar.gz PackageFileSize: 584.5 KiB