Package: RTNduals Version: 1.33.0 Command: rm -rf RTNduals.buildbin-libdir && mkdir RTNduals.buildbin-libdir && F:\biocbuild\bbs-3.22-bioc\R\bin\R.exe CMD INSTALL --build --library=RTNduals.buildbin-libdir RTNduals_1.33.0.tar.gz StartedAt: 2025-08-15 11:11:40 -0400 (Fri, 15 Aug 2025) EndedAt: 2025-08-15 11:12:31 -0400 (Fri, 15 Aug 2025) EllapsedTime: 51.0 seconds RetCode: 0 Status: OK PackageFile: RTNduals_1.33.0.zip PackageFileSize: 744.5 KiB