Package: RTN Version: 2.33.0 Command: /home/biocbuild/R/R/bin/R CMD INSTALL RTN StartedAt: 2025-10-23 20:37:25 -0000 (Thu, 23 Oct 2025) EndedAt: 2025-10-23 20:38:17 -0000 (Thu, 23 Oct 2025) EllapsedTime: 51.6 seconds RetCode: 0 Status: OK