Package: RTN Version: 2.34.0 Command: /home/biocbuild/bbs-3.22-bioc/R/bin/R CMD build --keep-empty-dirs --no-resave-data --md5 RTN StartedAt: 2025-11-14 19:52:48 -0500 (Fri, 14 Nov 2025) EndedAt: 2025-11-14 19:55:08 -0500 (Fri, 14 Nov 2025) EllapsedTime: 140.2 seconds RetCode: 0 Status: OK PackageFile: RTN_2.34.0.tar.gz PackageFileSize: 10.27 MiB