Package: RTN Version: 2.33.0 Command: /Library/Frameworks/R.framework/Resources/bin/R CMD INSTALL RTN StartedAt: 2025-10-26 15:09:43 -0400 (Sun, 26 Oct 2025) EndedAt: 2025-10-26 15:09:58 -0400 (Sun, 26 Oct 2025) EllapsedTime: 14.6 seconds RetCode: 0 Status: OK