Package: RTN Version: 2.33.0 Command: rm -rf RTN.buildbin-libdir && mkdir RTN.buildbin-libdir && /Users/biocbuild/BBS/utils/build-universal.sh RTN_2.33.0.tar.gz /Library/Frameworks/R.framework/Resources/bin/R RTN.buildbin-libdir StartedAt: 2025-10-26 22:46:52 -0400 (Sun, 26 Oct 2025) EndedAt: 2025-10-26 22:47:07 -0400 (Sun, 26 Oct 2025) EllapsedTime: 15.4 seconds RetCode: 0 Status: OK PackageFile: RTN_2.33.0.tgz PackageFileSize: 10.21 MiB