Package: RTCGAToolbox Version: 2.39.1 Command: /home/biocbuild/R/R/bin/R CMD INSTALL RTCGAToolbox StartedAt: 2025-10-23 21:07:27 -0000 (Thu, 23 Oct 2025) EndedAt: 2025-10-23 21:07:59 -0000 (Thu, 23 Oct 2025) EllapsedTime: 32.2 seconds RetCode: 0 Status: OK