Package: RTCGAToolbox Version: 2.39.1 Command: /home/biocbuild/R/R/bin/R CMD check --install=check:RTCGAToolbox.install-out.txt --library=/home/biocbuild/R/R/site-library --no-vignettes --timings RTCGAToolbox_2.39.1.tar.gz StartedAt: 2025-10-17 13:04:18 -0000 (Fri, 17 Oct 2025) EndedAt: 2025-10-17 13:10:20 -0000 (Fri, 17 Oct 2025) EllapsedTime: 361.7 seconds RetCode: 0 Status: OK CheckDir: RTCGAToolbox.Rcheck Warnings: 0