Package: RTCGAToolbox Version: 2.39.1 Command: /home/biocbuild/bbs-3.22-bioc/R/bin/R CMD INSTALL RTCGAToolbox StartedAt: 2025-10-27 15:45:45 -0400 (Mon, 27 Oct 2025) EndedAt: 2025-10-27 15:46:09 -0400 (Mon, 27 Oct 2025) EllapsedTime: 24.5 seconds RetCode: 0 Status: OK