Package: RSVSim Version: 1.49.0 Command: /home/biocbuild/R/R/bin/R CMD INSTALL RSVSim StartedAt: 2025-10-06 21:12:09 -0000 (Mon, 06 Oct 2025) EndedAt: 2025-10-06 21:12:50 -0000 (Mon, 06 Oct 2025) EllapsedTime: 41.5 seconds RetCode: 0 Status: OK