Package: RPA Version: 1.65.0 Command: /Library/Frameworks/R.framework/Resources/bin/R CMD INSTALL RPA StartedAt: 2025-10-23 15:18:57 -0400 (Thu, 23 Oct 2025) EndedAt: 2025-10-23 15:19:26 -0400 (Thu, 23 Oct 2025) EllapsedTime: 29.6 seconds RetCode: 0 Status: OK