Package: ROTS Version: 2.1.1 Command: /home/biocbuild/R/R/bin/R CMD build --keep-empty-dirs --no-resave-data ROTS StartedAt: 2025-10-21 02:38:26 -0000 (Tue, 21 Oct 2025) EndedAt: 2025-10-21 02:39:02 -0000 (Tue, 21 Oct 2025) EllapsedTime: 36.0 seconds RetCode: 0 Status: OK PackageFile: ROTS_2.1.1.tar.gz PackageFileSize: 447.7 KiB